BEGIN:VCALENDAR
VERSION:2.0
PRODID:-//Romance Books - ECPv6.15.20//NONSGML v1.0//EN
CALSCALE:GREGORIAN
METHOD:PUBLISH
X-WR-CALNAME:Romance Books
X-ORIGINAL-URL:https://romancebooks.blog
X-WR-CALDESC:Events for Romance Books
REFRESH-INTERVAL;VALUE=DURATION:PT1H
X-Robots-Tag:noindex
X-PUBLISHED-TTL:PT1H
BEGIN:VTIMEZONE
TZID:America/Chicago
BEGIN:DAYLIGHT
TZOFFSETFROM:-0600
TZOFFSETTO:-0500
TZNAME:CDT
DTSTART:20250309T080000
END:DAYLIGHT
BEGIN:STANDARD
TZOFFSETFROM:-0500
TZOFFSETTO:-0600
TZNAME:CST
DTSTART:20251102T070000
END:STANDARD
BEGIN:DAYLIGHT
TZOFFSETFROM:-0600
TZOFFSETTO:-0500
TZNAME:CDT
DTSTART:20260308T080000
END:DAYLIGHT
BEGIN:STANDARD
TZOFFSETFROM:-0500
TZOFFSETTO:-0600
TZNAME:CST
DTSTART:20261101T070000
END:STANDARD
BEGIN:DAYLIGHT
TZOFFSETFROM:-0600
TZOFFSETTO:-0500
TZNAME:CDT
DTSTART:20270314T080000
END:DAYLIGHT
BEGIN:STANDARD
TZOFFSETFROM:-0500
TZOFFSETTO:-0600
TZNAME:CST
DTSTART:20271107T070000
END:STANDARD
END:VTIMEZONE
BEGIN:VEVENT
DTSTART;VALUE=DATE:20261023
DTEND;VALUE=DATE:20261026
DTSTAMP:20260423T161413
CREATED:20251230T201110Z
LAST-MODIFIED:20251230T201753Z
UID:622-1792713600-1792972799@romancebooks.blog
SUMMARY:The Romance Edit: Trope Favorites
DESCRIPTION:🖤 The Romance Edit: Trope Favorites\nCurated Romance Reads | October 23–25\, 2026 \nThe tropes readers never get tired of. \nThe Romance Edit: Trope Favorites is a curated RomanceBooks.Blog event featuring romance novels built around beloved tropes such as Enemies to Lovers\, Friends to Lovers\, and more. \nAll featured books are priced free or $0.99 for a limited time. \nEvent dates: October 23–25\, 2026Books: Free or $0.99 Romance Trope FavoritesHosted by: RomanceBooks.Blog
URL:https://romancebooks.blog/event/the-romance-edit-trope-favorites/
ATTACH;FMTTYPE=image/webp:https://romancebooks.blog/wp-content/uploads/2025/12/10-2026-The-Romance-Edit-Trope-Favorites-copy.webp
END:VEVENT
END:VCALENDAR