BEGIN:VCALENDAR
VERSION:2.0
PRODID:-//Romance Books - ECPv6.15.20//NONSGML v1.0//EN
CALSCALE:GREGORIAN
METHOD:PUBLISH
X-WR-CALNAME:Romance Books
X-ORIGINAL-URL:https://romancebooks.blog
X-WR-CALDESC:Events for Romance Books
REFRESH-INTERVAL;VALUE=DURATION:PT1H
X-Robots-Tag:noindex
X-PUBLISHED-TTL:PT1H
BEGIN:VTIMEZONE
TZID:America/Chicago
BEGIN:DAYLIGHT
TZOFFSETFROM:-0600
TZOFFSETTO:-0500
TZNAME:CDT
DTSTART:20250309T080000
END:DAYLIGHT
BEGIN:STANDARD
TZOFFSETFROM:-0500
TZOFFSETTO:-0600
TZNAME:CST
DTSTART:20251102T070000
END:STANDARD
BEGIN:DAYLIGHT
TZOFFSETFROM:-0600
TZOFFSETTO:-0500
TZNAME:CDT
DTSTART:20260308T080000
END:DAYLIGHT
BEGIN:STANDARD
TZOFFSETFROM:-0500
TZOFFSETTO:-0600
TZNAME:CST
DTSTART:20261101T070000
END:STANDARD
BEGIN:DAYLIGHT
TZOFFSETFROM:-0600
TZOFFSETTO:-0500
TZNAME:CDT
DTSTART:20270314T080000
END:DAYLIGHT
BEGIN:STANDARD
TZOFFSETFROM:-0500
TZOFFSETTO:-0600
TZNAME:CST
DTSTART:20271107T070000
END:STANDARD
END:VTIMEZONE
BEGIN:VEVENT
DTSTART;VALUE=DATE:20260516
DTEND;VALUE=DATE:20260523
DTSTAMP:20260423T094502
CREATED:20251230T193516Z
LAST-MODIFIED:20251230T193528Z
UID:606-1778889600-1779494399@romancebooks.blog
SUMMARY:Match Made In May - Win a Bookish Gift Box
DESCRIPTION:💘 Match Made in May\nReader Gift Box Giveaway | May 16–22\, 2026 \nSometimes the perfect book finds you at just the right moment. \nMatch Made in May is a RomanceBooks.Blog giveaway celebrating connection\, chemistry\, and unforgettable romance reads with a romance-themed bookish gift box. \nEnter for a chance to win a curated box of reader favorites and bookish treats. Extra entries can be earned by following participating authors on Amazon. \nGiveaway dates: May 16–22\, 2026Prize: Romance reader bookish gift boxHosted by: RomanceBooks.Blog
URL:https://romancebooks.blog/event/match-made-in-may-win-a-bookish-gift-box/
ATTACH;FMTTYPE=image/webp:https://romancebooks.blog/wp-content/uploads/2025/12/05-2026-May-Matchmaker.webp
END:VEVENT
END:VCALENDAR