BEGIN:VCALENDAR
VERSION:2.0
PRODID:-//Romance Books - ECPv6.15.20//NONSGML v1.0//EN
CALSCALE:GREGORIAN
METHOD:PUBLISH
X-WR-CALNAME:Romance Books
X-ORIGINAL-URL:https://romancebooks.blog
X-WR-CALDESC:Events for Romance Books
REFRESH-INTERVAL;VALUE=DURATION:PT1H
X-Robots-Tag:noindex
X-PUBLISHED-TTL:PT1H
BEGIN:VTIMEZONE
TZID:America/Chicago
BEGIN:DAYLIGHT
TZOFFSETFROM:-0600
TZOFFSETTO:-0500
TZNAME:CDT
DTSTART:20240310T080000
END:DAYLIGHT
BEGIN:STANDARD
TZOFFSETFROM:-0500
TZOFFSETTO:-0600
TZNAME:CST
DTSTART:20241103T070000
END:STANDARD
BEGIN:DAYLIGHT
TZOFFSETFROM:-0600
TZOFFSETTO:-0500
TZNAME:CDT
DTSTART:20250309T080000
END:DAYLIGHT
BEGIN:STANDARD
TZOFFSETFROM:-0500
TZOFFSETTO:-0600
TZNAME:CST
DTSTART:20251102T070000
END:STANDARD
BEGIN:DAYLIGHT
TZOFFSETFROM:-0600
TZOFFSETTO:-0500
TZNAME:CDT
DTSTART:20260308T080000
END:DAYLIGHT
BEGIN:STANDARD
TZOFFSETFROM:-0500
TZOFFSETTO:-0600
TZNAME:CST
DTSTART:20261101T070000
END:STANDARD
BEGIN:DAYLIGHT
TZOFFSETFROM:-0600
TZOFFSETTO:-0500
TZNAME:CDT
DTSTART:20270314T080000
END:DAYLIGHT
BEGIN:STANDARD
TZOFFSETFROM:-0500
TZOFFSETTO:-0600
TZNAME:CST
DTSTART:20271107T070000
END:STANDARD
END:VTIMEZONE
BEGIN:VEVENT
DTSTART;VALUE=DATE:20260117
DTEND;VALUE=DATE:20260124
DTSTAMP:20260423T161834
CREATED:20251230T191852Z
LAST-MODIFIED:20251230T191852Z
UID:593-1768608000-1769212799@romancebooks.blog
SUMMARY:Cold Days\, Hot Reads - Win a Bookish Gift Box
DESCRIPTION:❄️ Cold Days\, Hot Reads\nReader Gift Box Giveaway | January 17–23\, 2026 \nCold weather calls for cozy romance reads. \nCold Days\, Hot Reads is a RomanceBooks.Blog giveaway celebrating winter reading with a romance-themed bookish gift box designed especially for readers. \nEnter for a chance to win a curated box of reader favorites and bookish treats. Extra entries can be earned by subscribing to newsletters from participating romance authors\, making it easy to discover new books while supporting the authors you love. \nGiveaway dates: January 17–23\, 2026Prize: Romance reader bookish gift boxHosted by: RomanceBooks.Blog \nStay warm. Read hot.
URL:https://romancebooks.blog/event/cold-days-hot-reads-win-a-bookish-gift-box/
ATTACH;FMTTYPE=image/webp:https://romancebooks.blog/wp-content/uploads/2025/12/01-2026-Cold-Days-Hot-Reads-Book-Lovers-Gift-Basket-copy.webp
END:VEVENT
BEGIN:VEVENT
DTSTART;VALUE=DATE:20251216
DTEND;VALUE=DATE:20260101
DTSTAMP:20260423T161834
CREATED:20251217T054215Z
LAST-MODIFIED:20251220T003653Z
UID:414-1765843200-1767225599@romancebooks.blog
SUMMARY:Stay In and Read Romance - 6 Month KU Subscription Giveaway
DESCRIPTION:
URL:https://romancebooks.blog/event/stay-in-and-read-romance-6-month-ku-subscription-giveaway/
ATTACH;FMTTYPE=image/jpeg:https://romancebooks.blog/wp-content/uploads/2025/12/12-2025-Winter-Books-KU-Giveaway-1.jpg
END:VEVENT
END:VCALENDAR