BEGIN:VCALENDAR
VERSION:2.0
PRODID:-//Romance Books - ECPv6.15.20//NONSGML v1.0//EN
CALSCALE:GREGORIAN
METHOD:PUBLISH
X-WR-CALNAME:Romance Books
X-ORIGINAL-URL:https://romancebooks.blog
X-WR-CALDESC:Events for Romance Books
REFRESH-INTERVAL;VALUE=DURATION:PT1H
X-Robots-Tag:noindex
X-PUBLISHED-TTL:PT1H
BEGIN:VTIMEZONE
TZID:America/Chicago
BEGIN:DAYLIGHT
TZOFFSETFROM:-0600
TZOFFSETTO:-0500
TZNAME:CDT
DTSTART:20250309T080000
END:DAYLIGHT
BEGIN:STANDARD
TZOFFSETFROM:-0500
TZOFFSETTO:-0600
TZNAME:CST
DTSTART:20251102T070000
END:STANDARD
BEGIN:DAYLIGHT
TZOFFSETFROM:-0600
TZOFFSETTO:-0500
TZNAME:CDT
DTSTART:20260308T080000
END:DAYLIGHT
BEGIN:STANDARD
TZOFFSETFROM:-0500
TZOFFSETTO:-0600
TZNAME:CST
DTSTART:20261101T070000
END:STANDARD
BEGIN:DAYLIGHT
TZOFFSETFROM:-0600
TZOFFSETTO:-0500
TZNAME:CDT
DTSTART:20270314T080000
END:DAYLIGHT
BEGIN:STANDARD
TZOFFSETFROM:-0500
TZOFFSETTO:-0600
TZNAME:CST
DTSTART:20271107T070000
END:STANDARD
END:VTIMEZONE
BEGIN:VEVENT
DTSTART;VALUE=DATE:20261114
DTEND;VALUE=DATE:20261121
DTSTAMP:20260423T185116
CREATED:20251230T201952Z
LAST-MODIFIED:20251230T201952Z
UID:636-1794614400-1795219199@romancebooks.blog
SUMMARY:Grateful Hearts\, Cozy Reads - Win a Bookish Gift Box
DESCRIPTION:🍁 Grateful Hearts\, Cozy Reads\nReader Gift Box Giveaway | November 14–20\, 2026 \nA season for gratitude\, warmth\, and comforting romance reads. \nGrateful Hearts\, Cozy Reads is a RomanceBooks.Blog giveaway celebrating thankfulness and cozy reading moments with a romance-themed bookish gift box. \nEnter for a chance to win a curated box of reader favorites and bookish treats. Extra entries can be earned by following participating authors on Instagram. \nGiveaway dates: November 14–20\, 2026Prize: Romance reader bookish gift boxHosted by: RomanceBooks.Blog
URL:https://romancebooks.blog/event/grateful-hearts-cozy-reads-win-a-bookish-gift-box/
ATTACH;FMTTYPE=image/webp:https://romancebooks.blog/wp-content/uploads/2025/12/11-2026-Grateful-Hearts-Cozy-Reads.webp
END:VEVENT
END:VCALENDAR