BEGIN:VCALENDAR
VERSION:2.0
PRODID:-//Romance Books - ECPv6.15.20//NONSGML v1.0//EN
CALSCALE:GREGORIAN
METHOD:PUBLISH
X-WR-CALNAME:Romance Books
X-ORIGINAL-URL:https://romancebooks.blog
X-WR-CALDESC:Events for Romance Books
REFRESH-INTERVAL;VALUE=DURATION:PT1H
X-Robots-Tag:noindex
X-PUBLISHED-TTL:PT1H
BEGIN:VTIMEZONE
TZID:America/Chicago
BEGIN:DAYLIGHT
TZOFFSETFROM:-0600
TZOFFSETTO:-0500
TZNAME:CDT
DTSTART:20250309T080000
END:DAYLIGHT
BEGIN:STANDARD
TZOFFSETFROM:-0500
TZOFFSETTO:-0600
TZNAME:CST
DTSTART:20251102T070000
END:STANDARD
BEGIN:DAYLIGHT
TZOFFSETFROM:-0600
TZOFFSETTO:-0500
TZNAME:CDT
DTSTART:20260308T080000
END:DAYLIGHT
BEGIN:STANDARD
TZOFFSETFROM:-0500
TZOFFSETTO:-0600
TZNAME:CST
DTSTART:20261101T070000
END:STANDARD
BEGIN:DAYLIGHT
TZOFFSETFROM:-0600
TZOFFSETTO:-0500
TZNAME:CDT
DTSTART:20270314T080000
END:DAYLIGHT
BEGIN:STANDARD
TZOFFSETFROM:-0500
TZOFFSETTO:-0600
TZNAME:CST
DTSTART:20271107T070000
END:STANDARD
END:VTIMEZONE
BEGIN:VEVENT
DTSTART;VALUE=DATE:20260919
DTEND;VALUE=DATE:20260926
DTSTAMP:20260423T161339
CREATED:20251230T194554Z
LAST-MODIFIED:20251230T194554Z
UID:619-1789776000-1790380799@romancebooks.blog
SUMMARY:We Fall So Hard - Win a Bookish Gift Box
DESCRIPTION:🍂 We Fall So Hard\nReader Gift Box Giveaway | September 19–25\, 2026 \nFall is made for emotional\, immersive romance reads. \nWe Fall So Hard is a RomanceBooks.Blog giveaway celebrating autumn reading season with a romance-themed bookish gift box designed for cozy nights and page-turning stories. \nEnter for a chance to win a curated box of reader favorites and bookish treats. Extra entries can be earned by following participating authors on Facebook. \nGiveaway dates: September 19–25\, 2026Prize: Romance reader bookish gift boxHosted by: RomanceBooks.Blog
URL:https://romancebooks.blog/event/we-fall-so-hard-win-a-bookish-gift-box/
ATTACH;FMTTYPE=image/webp:https://romancebooks.blog/wp-content/uploads/2025/12/09-2026-We-Fall-So-Hard-1.webp
END:VEVENT
END:VCALENDAR