BEGIN:VCALENDAR
VERSION:2.0
PRODID:-//Romance Books - ECPv6.15.20//NONSGML v1.0//EN
CALSCALE:GREGORIAN
METHOD:PUBLISH
X-WR-CALNAME:Romance Books
X-ORIGINAL-URL:https://romancebooks.blog
X-WR-CALDESC:Events for Romance Books
REFRESH-INTERVAL;VALUE=DURATION:PT1H
X-Robots-Tag:noindex
X-PUBLISHED-TTL:PT1H
BEGIN:VTIMEZONE
TZID:America/Chicago
BEGIN:DAYLIGHT
TZOFFSETFROM:-0600
TZOFFSETTO:-0500
TZNAME:CDT
DTSTART:20250309T080000
END:DAYLIGHT
BEGIN:STANDARD
TZOFFSETFROM:-0500
TZOFFSETTO:-0600
TZNAME:CST
DTSTART:20251102T070000
END:STANDARD
BEGIN:DAYLIGHT
TZOFFSETFROM:-0600
TZOFFSETTO:-0500
TZNAME:CDT
DTSTART:20260308T080000
END:DAYLIGHT
BEGIN:STANDARD
TZOFFSETFROM:-0500
TZOFFSETTO:-0600
TZNAME:CST
DTSTART:20261101T070000
END:STANDARD
BEGIN:DAYLIGHT
TZOFFSETFROM:-0600
TZOFFSETTO:-0500
TZNAME:CDT
DTSTART:20270314T080000
END:DAYLIGHT
BEGIN:STANDARD
TZOFFSETFROM:-0500
TZOFFSETTO:-0600
TZNAME:CST
DTSTART:20271107T070000
END:STANDARD
END:VTIMEZONE
BEGIN:VEVENT
DTSTART;VALUE=DATE:20260821
DTEND;VALUE=DATE:20260824
DTSTAMP:20260423T150313
CREATED:20251230T194342Z
LAST-MODIFIED:20251230T194342Z
UID:616-1787270400-1787529599@romancebooks.blog
SUMMARY:The Romance Edit: Historical Romance
DESCRIPTION:📜 The Romance Edit: Historical Romance\nCurated Romance Reads | August 21–23\, 2026 \nTimeless love stories set in unforgettable eras. \nThe Romance Edit: Historical Romance is a curated RomanceBooks.Blog event featuring historical romance novels priced free or $0.99 for a limited time. \nThis promotion highlights sweeping romances\, rich settings\, and enduring love stories from the past. \nEvent dates: August 21–23\, 2026Books: Free or $0.99 Historical RomanceHosted by: RomanceBooks.Blog
URL:https://romancebooks.blog/event/the-romance-edit-historical-romance/
ATTACH;FMTTYPE=image/webp:https://romancebooks.blog/wp-content/uploads/2025/12/08-2026-The-Romance-Edit-Historical-Romance.webp
END:VEVENT
END:VCALENDAR