BEGIN:VCALENDAR
VERSION:2.0
PRODID:-//Romance Books - ECPv6.15.20//NONSGML v1.0//EN
CALSCALE:GREGORIAN
METHOD:PUBLISH
X-WR-CALNAME:Romance Books
X-ORIGINAL-URL:https://romancebooks.blog
X-WR-CALDESC:Events for Romance Books
REFRESH-INTERVAL;VALUE=DURATION:PT1H
X-Robots-Tag:noindex
X-PUBLISHED-TTL:PT1H
BEGIN:VTIMEZONE
TZID:America/Chicago
BEGIN:DAYLIGHT
TZOFFSETFROM:-0600
TZOFFSETTO:-0500
TZNAME:CDT
DTSTART:20250309T080000
END:DAYLIGHT
BEGIN:STANDARD
TZOFFSETFROM:-0500
TZOFFSETTO:-0600
TZNAME:CST
DTSTART:20251102T070000
END:STANDARD
BEGIN:DAYLIGHT
TZOFFSETFROM:-0600
TZOFFSETTO:-0500
TZNAME:CDT
DTSTART:20260308T080000
END:DAYLIGHT
BEGIN:STANDARD
TZOFFSETFROM:-0500
TZOFFSETTO:-0600
TZNAME:CST
DTSTART:20261101T070000
END:STANDARD
BEGIN:DAYLIGHT
TZOFFSETFROM:-0600
TZOFFSETTO:-0500
TZNAME:CDT
DTSTART:20270314T080000
END:DAYLIGHT
BEGIN:STANDARD
TZOFFSETFROM:-0500
TZOFFSETTO:-0600
TZNAME:CST
DTSTART:20271107T070000
END:STANDARD
END:VTIMEZONE
BEGIN:VEVENT
DTSTART;VALUE=DATE:20260321
DTEND;VALUE=DATE:20260328
DTSTAMP:20260423T110251
CREATED:20251230T192933Z
LAST-MODIFIED:20251230T193025Z
UID:599-1774051200-1774655999@romancebooks.blog
SUMMARY:Spring Into Romance Reads - Win a Bookish Gift Box
DESCRIPTION:🌷 Spring Into Romance Reads\nReader Gift Box Giveaway | March 21–27\, 2026 \nSpring is the perfect season for fresh romance reads. \nSpring Into Romance Reads is a RomanceBooks.Blog giveaway celebrating new beginnings\, swoony stories\, and cozy reading moments with a romance-themed bookish gift box. \nEnter for a chance to win a curated box of reader favorites and bookish treats. Extra entries can be earned by following participating authors on BookBub. \nGiveaway dates: March 21–27\, 2026Prize: Romance reader bookish gift boxHosted by: RomanceBooks.Blog
URL:https://romancebooks.blog/event/spring-into-romance-reads-win-a-bookish-gift-box/
ATTACH;FMTTYPE=image/webp:https://romancebooks.blog/wp-content/uploads/2025/12/03-2026-Spring-Into-Romance-Reads-2.webp
END:VEVENT
END:VCALENDAR